Package: signatureSearchData Version: 1.20.0 Command: /home/biocbuild/bbs-3.20-bioc/R/bin/R CMD INSTALL signatureSearchData StartedAt: 2025-02-11 10:56:59 -0500 (Tue, 11 Feb 2025) EndedAt: 2025-02-11 10:57:04 -0500 (Tue, 11 Feb 2025) EllapsedTime: 4.5 seconds RetCode: 0 Status: OK