Package: signatureSearchData Version: 1.20.0 Command: /home/biocbuild/bbs-3.20-bioc/R/bin/R CMD check --install=check:signatureSearchData.install-out.txt --library=/home/biocbuild/bbs-3.20-bioc/R/site-library --timings signatureSearchData_1.20.0.tar.gz StartedAt: 2025-02-06 12:37:58 -0500 (Thu, 06 Feb 2025) EndedAt: 2025-02-06 12:38:55 -0500 (Thu, 06 Feb 2025) EllapsedTime: 57.0 seconds RetCode: 0 Status: OK CheckDir: signatureSearchData.Rcheck Warnings: 0