Package: shinyMethylData Version: 1.26.0 Command: /home/biocbuild/bbs-3.20-bioc/R/bin/R CMD INSTALL shinyMethylData StartedAt: 2025-02-06 10:55:56 -0500 (Thu, 06 Feb 2025) EndedAt: 2025-02-06 10:56:10 -0500 (Thu, 06 Feb 2025) EllapsedTime: 14.7 seconds RetCode: 0 Status: OK