Package: seventyGeneData Version: 1.42.0 Command: /home/biocbuild/bbs-3.20-bioc/R/bin/R CMD INSTALL seventyGeneData StartedAt: 2025-02-06 10:55:39 -0500 (Thu, 06 Feb 2025) EndedAt: 2025-02-06 10:55:41 -0500 (Thu, 06 Feb 2025) EllapsedTime: 1.5 seconds RetCode: 0 Status: OK