Package: seventyGeneData Version: 1.42.0 Command: /home/biocbuild/bbs-3.20-bioc/R/bin/R CMD build --keep-empty-dirs --no-resave-data seventyGeneData StartedAt: 2025-02-06 11:36:50 -0500 (Thu, 06 Feb 2025) EndedAt: 2025-02-06 11:37:07 -0500 (Thu, 06 Feb 2025) EllapsedTime: 16.5 seconds RetCode: 0 Status: OK PackageFile: seventyGeneData_1.42.0.tar.gz PackageFileSize: 145.1 MiB