Package: sesameData Version: 1.26.0 Command: /home/biocbuild/bbs-3.21-bioc/R/bin/R CMD INSTALL sesameData StartedAt: 2025-10-09 11:03:58 -0400 (Thu, 09 Oct 2025) EndedAt: 2025-10-09 11:04:13 -0400 (Thu, 09 Oct 2025) EllapsedTime: 15.1 seconds RetCode: 0 Status: OK