Package: sesameData Version: 1.26.0 Command: /home/biocbuild/bbs-3.21-bioc/R/bin/R CMD build --keep-empty-dirs --no-resave-data sesameData StartedAt: 2025-10-09 11:39:07 -0400 (Thu, 09 Oct 2025) EndedAt: 2025-10-09 11:39:41 -0400 (Thu, 09 Oct 2025) EllapsedTime: 34.0 seconds RetCode: 0 Status: OK PackageFile: sesameData_1.26.0.tar.gz PackageFileSize: 1.882 MiB