Package: serumStimulation Version: 1.46.0 Command: /home/biocbuild/bbs-3.22-bioc/R/bin/R CMD check --install=check:serumStimulation.install-out.txt --library=/home/biocbuild/bbs-3.22-bioc/R/site-library --timings serumStimulation_1.46.0.tar.gz StartedAt: 2025-11-27 13:04:03 -0500 (Thu, 27 Nov 2025) EndedAt: 2025-11-27 13:04:15 -0500 (Thu, 27 Nov 2025) EllapsedTime: 11.3 seconds RetCode: 0 Status: OK CheckDir: serumStimulation.Rcheck Warnings: 0