Package: seqc Version: 1.44.0 Command: /home/biocbuild/bbs-3.22-bioc/R/bin/R CMD check --install=check:seqc.install-out.txt --library=/home/biocbuild/bbs-3.22-bioc/R/site-library --timings seqc_1.44.0.tar.gz StartedAt: 2025-11-18 13:37:24 -0500 (Tue, 18 Nov 2025) EndedAt: 2025-11-18 13:38:41 -0500 (Tue, 18 Nov 2025) EllapsedTime: 77.0 seconds RetCode: 0 Status: WARNINGS CheckDir: seqc.Rcheck Warnings: 1