Package: scpdata Version: 1.14.0 Command: /home/biocbuild/bbs-3.20-bioc/R/bin/R CMD INSTALL scpdata StartedAt: 2025-01-30 11:00:31 -0500 (Thu, 30 Jan 2025) EndedAt: 2025-01-30 11:01:05 -0500 (Thu, 30 Jan 2025) EllapsedTime: 34.2 seconds RetCode: 0 Status: OK