Package: scanMiRData Version: 1.16.0 Command: /home/biocbuild/bbs-3.22-bioc/R/bin/R CMD INSTALL scanMiRData StartedAt: 2025-10-30 10:59:15 -0400 (Thu, 30 Oct 2025) EndedAt: 2025-10-30 10:59:44 -0400 (Thu, 30 Oct 2025) EllapsedTime: 28.3 seconds RetCode: 0 Status: OK