Package: scanMiRData Version: 1.16.0 Command: /home/biocbuild/bbs-3.22-bioc/R/bin/R CMD build --keep-empty-dirs --no-resave-data scanMiRData StartedAt: 2025-10-30 11:51:26 -0400 (Thu, 30 Oct 2025) EndedAt: 2025-10-30 11:52:07 -0400 (Thu, 30 Oct 2025) EllapsedTime: 40.0 seconds RetCode: 0 Status: OK PackageFile: scanMiRData_1.16.0.tar.gz PackageFileSize: 16.14 MiB