Package: scaeData Version: 1.6.0 Command: /home/biocbuild/bbs-3.22-bioc/R/bin/R CMD INSTALL scaeData StartedAt: 2025-11-18 10:57:59 -0500 (Tue, 18 Nov 2025) EndedAt: 2025-11-18 10:58:12 -0500 (Tue, 18 Nov 2025) EllapsedTime: 12.8 seconds RetCode: 0 Status: OK