Package: scTHI.data Version: 1.18.0 Command: /home/biocbuild/bbs-3.20-bioc/R/bin/R CMD build --keep-empty-dirs --no-resave-data scTHI.data StartedAt: 2025-02-11 11:37:39 -0500 (Tue, 11 Feb 2025) EndedAt: 2025-02-11 11:37:47 -0500 (Tue, 11 Feb 2025) EllapsedTime: 8.0 seconds RetCode: 0 Status: OK PackageFile: scTHI.data_1.18.0.tar.gz PackageFileSize: 24.17 MiB