Package: scRNAseq Version: 2.20.0 Command: /home/biocbuild/bbs-3.20-bioc/R/bin/R CMD INSTALL scRNAseq StartedAt: 2025-02-11 11:01:56 -0500 (Tue, 11 Feb 2025) EndedAt: 2025-02-11 11:02:38 -0500 (Tue, 11 Feb 2025) EllapsedTime: 42.5 seconds RetCode: 0 Status: OK