Package: scMultiome Version: 1.8.0 Command: /home/biocbuild/bbs-3.21-bioc/R/bin/R CMD INSTALL scMultiome StartedAt: 2025-10-02 11:03:38 -0400 (Thu, 02 Oct 2025) EndedAt: 2025-10-02 11:04:08 -0400 (Thu, 02 Oct 2025) EllapsedTime: 30.2 seconds RetCode: 0 Status: OK