Package: scMultiome Version: 1.8.0 Command: /home/biocbuild/bbs-3.21-bioc/R/bin/R CMD build --keep-empty-dirs --no-resave-data scMultiome StartedAt: 2025-10-02 11:39:05 -0400 (Thu, 02 Oct 2025) EndedAt: 2025-10-02 11:39:55 -0400 (Thu, 02 Oct 2025) EllapsedTime: 49.9 seconds RetCode: 0 Status: OK PackageFile: scMultiome_1.8.0.tar.gz PackageFileSize: 359.8 KiB