Package: scATAC.Explorer Version: 1.12.1 Command: /home/biocbuild/bbs-3.20-bioc/R/bin/R CMD INSTALL scATAC.Explorer StartedAt: 2025-02-11 11:04:07 -0500 (Tue, 11 Feb 2025) EndedAt: 2025-02-11 11:04:31 -0500 (Tue, 11 Feb 2025) EllapsedTime: 24.8 seconds RetCode: 0 Status: OK