Package: scATAC.Explorer Version: 1.12.1 Command: /home/biocbuild/bbs-3.20-bioc/R/bin/R CMD build --keep-empty-dirs --no-resave-data scATAC.Explorer StartedAt: 2025-02-13 11:35:49 -0500 (Thu, 13 Feb 2025) EndedAt: 2025-02-13 11:36:28 -0500 (Thu, 13 Feb 2025) EllapsedTime: 39.1 seconds RetCode: 0 Status: OK PackageFile: scATAC.Explorer_1.12.1.tar.gz PackageFileSize: 247.8 KiB