Package: sampleClassifierData Version: 1.34.0 Command: /home/biocbuild/bbs-3.22-bioc/R/bin/R CMD INSTALL sampleClassifierData StartedAt: 2025-10-30 11:00:53 -0400 (Thu, 30 Oct 2025) EndedAt: 2025-10-30 11:01:10 -0400 (Thu, 30 Oct 2025) EllapsedTime: 16.7 seconds RetCode: 0 Status: OK