Package: sampleClassifierData Version: 1.34.0 Command: /home/biocbuild/bbs-3.22-bioc/R/bin/R CMD build --keep-empty-dirs --no-resave-data sampleClassifierData StartedAt: 2025-10-30 11:50:52 -0400 (Thu, 30 Oct 2025) EndedAt: 2025-10-30 11:51:22 -0400 (Thu, 30 Oct 2025) EllapsedTime: 30.3 seconds RetCode: 0 Status: OK PackageFile: sampleClassifierData_1.34.0.tar.gz PackageFileSize: 15.51 MiB