Package: sampleClassifierData Version: 1.32.0 Command: /home/biocbuild/bbs-3.21-bioc/R/bin/R CMD build --keep-empty-dirs --no-resave-data sampleClassifierData StartedAt: 2025-07-24 11:37:27 -0400 (Thu, 24 Jul 2025) EndedAt: 2025-07-24 11:37:54 -0400 (Thu, 24 Jul 2025) EllapsedTime: 26.9 seconds RetCode: 0 Status: OK PackageFile: sampleClassifierData_1.32.0.tar.gz PackageFileSize: 15.51 MiB