Package: raerdata Version: 1.4.0 Command: /home/biocbuild/bbs-3.20-bioc/R/bin/R CMD INSTALL raerdata StartedAt: 2025-02-06 11:01:48 -0500 (Thu, 06 Feb 2025) EndedAt: 2025-02-06 11:02:22 -0500 (Thu, 06 Feb 2025) EllapsedTime: 33.8 seconds RetCode: 0 Status: OK