Package: qPLEXdata Version: 1.26.0 Command: /home/biocbuild/bbs-3.21-bioc/R/bin/R CMD build --keep-empty-dirs --no-resave-data qPLEXdata StartedAt: 2025-10-16 11:34:13 -0400 (Thu, 16 Oct 2025) EndedAt: 2025-10-16 11:35:26 -0400 (Thu, 16 Oct 2025) EllapsedTime: 72.4 seconds RetCode: 0 Status: OK PackageFile: qPLEXdata_1.26.0.tar.gz PackageFileSize: 11.7 MiB