Package: pumadata Version: 2.42.0 Command: /home/biocbuild/bbs-3.20-bioc/R/bin/R CMD check --install=check:pumadata.install-out.txt --library=/home/biocbuild/bbs-3.20-bioc/R/site-library --timings pumadata_2.42.0.tar.gz StartedAt: 2025-02-06 12:28:55 -0500 (Thu, 06 Feb 2025) EndedAt: 2025-02-06 12:32:08 -0500 (Thu, 06 Feb 2025) EllapsedTime: 192.8 seconds RetCode: 0 Status: OK CheckDir: pumadata.Rcheck Warnings: 0