Package: pumadata Version: 2.42.0 Command: /home/biocbuild/bbs-3.20-bioc/R/bin/R CMD build --keep-empty-dirs --no-resave-data pumadata StartedAt: 2025-02-06 11:32:14 -0500 (Thu, 06 Feb 2025) EndedAt: 2025-02-06 11:32:56 -0500 (Thu, 06 Feb 2025) EllapsedTime: 41.2 seconds RetCode: 0 Status: OK PackageFile: pumadata_2.42.0.tar.gz PackageFileSize: 101.7 MiB