Package: prostateCancerVarambally Version: 1.36.0 Command: /home/biocbuild/bbs-3.21-bioc/R/bin/R CMD INSTALL prostateCancerVarambally StartedAt: 2025-09-30 10:56:07 -0400 (Tue, 30 Sep 2025) EndedAt: 2025-09-30 10:56:12 -0400 (Tue, 30 Sep 2025) EllapsedTime: 5.1 seconds RetCode: 0 Status: OK