Package: prostateCancerStockholm Version: 1.34.0 Command: /home/biocbuild/bbs-3.20-bioc/R/bin/R CMD INSTALL prostateCancerStockholm StartedAt: 2025-02-18 10:56:09 -0500 (Tue, 18 Feb 2025) EndedAt: 2025-02-18 10:56:18 -0500 (Tue, 18 Feb 2025) EllapsedTime: 9.0 seconds RetCode: 0 Status: OK