Package: prostateCancerStockholm Version: 1.34.0 Command: /home/biocbuild/bbs-3.20-bioc/R/bin/R CMD build --keep-empty-dirs --no-resave-data prostateCancerStockholm StartedAt: 2025-02-18 11:31:33 -0500 (Tue, 18 Feb 2025) EndedAt: 2025-02-18 11:31:44 -0500 (Tue, 18 Feb 2025) EllapsedTime: 11.3 seconds RetCode: 0 Status: OK PackageFile: prostateCancerStockholm_1.34.0.tar.gz PackageFileSize: 13.51 MiB