Package: prostateCancerGrasso Version: 1.38.0 Command: /home/biocbuild/bbs-3.22-bioc/R/bin/R CMD build --keep-empty-dirs --no-resave-data prostateCancerGrasso StartedAt: 2025-11-18 12:00:09 -0500 (Tue, 18 Nov 2025) EndedAt: 2025-11-18 12:00:20 -0500 (Tue, 18 Nov 2025) EllapsedTime: 11.0 seconds RetCode: 0 Status: OK PackageFile: prostateCancerGrasso_1.38.0.tar.gz PackageFileSize: 25.25 MiB