Package: prostateCancerGrasso Version: 1.36.0 Command: /home/biocbuild/bbs-3.21-bioc/R/bin/R CMD INSTALL prostateCancerGrasso StartedAt: 2025-10-02 10:56:36 -0400 (Thu, 02 Oct 2025) EndedAt: 2025-10-02 10:56:44 -0400 (Thu, 02 Oct 2025) EllapsedTime: 7.9 seconds RetCode: 0 Status: OK