Package: prostateCancerGrasso Version: 1.36.0 Command: /home/biocbuild/bbs-3.21-bioc/R/bin/R CMD build --keep-empty-dirs --no-resave-data prostateCancerGrasso StartedAt: 2025-10-02 11:34:15 -0400 (Thu, 02 Oct 2025) EndedAt: 2025-10-02 11:34:27 -0400 (Thu, 02 Oct 2025) EllapsedTime: 12.3 seconds RetCode: 0 Status: OK PackageFile: prostateCancerGrasso_1.36.0.tar.gz PackageFileSize: 25.25 MiB