Package: preciseTADhub Version: 1.16.0 Command: /home/biocbuild/bbs-3.21-bioc/R/bin/R CMD check --install=check:preciseTADhub.install-out.txt --library=/home/biocbuild/bbs-3.21-bioc/R/site-library --timings preciseTADhub_1.16.0.tar.gz StartedAt: 2025-10-16 12:45:18 -0400 (Thu, 16 Oct 2025) EndedAt: 2025-10-16 12:48:26 -0400 (Thu, 16 Oct 2025) EllapsedTime: 187.8 seconds RetCode: 0 Status: OK CheckDir: preciseTADhub.Rcheck Warnings: 0