Package: prebsdata Version: 1.42.0 Command: /home/biocbuild/bbs-3.20-bioc/R/bin/R CMD build --keep-empty-dirs --no-resave-data prebsdata StartedAt: 2025-01-30 11:32:32 -0500 (Thu, 30 Jan 2025) EndedAt: 2025-01-30 11:32:56 -0500 (Thu, 30 Jan 2025) EllapsedTime: 24.1 seconds RetCode: 0 Status: OK PackageFile: prebsdata_1.42.0.tar.gz PackageFileSize: 23.54 MiB