Package: prebsdata Version: 1.44.0 Command: /home/biocbuild/bbs-3.21-bioc/R/bin/R CMD build --keep-empty-dirs --no-resave-data prebsdata StartedAt: 2025-10-09 11:33:06 -0400 (Thu, 09 Oct 2025) EndedAt: 2025-10-09 11:33:30 -0400 (Thu, 09 Oct 2025) EllapsedTime: 23.9 seconds RetCode: 0 Status: OK PackageFile: prebsdata_1.44.0.tar.gz PackageFileSize: 23.54 MiB