Package: pepDat Version: 1.26.0 Command: /home/biocbuild/bbs-3.20-bioc/R/bin/R CMD check --install=check:pepDat.install-out.txt --library=/home/biocbuild/bbs-3.20-bioc/R/site-library --timings pepDat_1.26.0.tar.gz StartedAt: 2025-02-06 12:27:33 -0500 (Thu, 06 Feb 2025) EndedAt: 2025-02-06 12:28:34 -0500 (Thu, 06 Feb 2025) EllapsedTime: 61.9 seconds RetCode: 0 Status: OK CheckDir: pepDat.Rcheck Warnings: 0