Package: pd.atdschip.tiling Version: 0.44.0 Command: /home/biocbuild/bbs-3.20-bioc/R/bin/R CMD INSTALL pd.atdschip.tiling StartedAt: 2025-02-06 11:01:00 -0500 (Thu, 06 Feb 2025) EndedAt: 2025-02-06 11:01:24 -0500 (Thu, 06 Feb 2025) EllapsedTime: 24.6 seconds RetCode: 0 Status: OK