Package: pasillaBamSubset Version: 0.44.0 Command: /home/biocbuild/bbs-3.20-bioc/R/bin/R CMD build --keep-empty-dirs --no-resave-data pasillaBamSubset StartedAt: 2025-02-11 11:32:04 -0500 (Tue, 11 Feb 2025) EndedAt: 2025-02-11 11:32:07 -0500 (Tue, 11 Feb 2025) EllapsedTime: 3.0 seconds RetCode: 0 Status: OK PackageFile: pasillaBamSubset_0.44.0.tar.gz PackageFileSize: 15.01 MiB