Package: pRolocdata Version: 1.44.0 Command: /home/biocbuild/bbs-3.20-bioc/R/bin/R CMD build --keep-empty-dirs --no-resave-data pRolocdata StartedAt: 2025-02-06 11:31:44 -0500 (Thu, 06 Feb 2025) EndedAt: 2025-02-06 11:32:24 -0500 (Thu, 06 Feb 2025) EllapsedTime: 40.0 seconds RetCode: 0 Status: OK PackageFile: pRolocdata_1.44.0.tar.gz PackageFileSize: 191.1 MiB