Package: orthosData Version: 1.6.0 Command: /home/biocbuild/bbs-3.21-bioc/R/bin/R CMD INSTALL orthosData StartedAt: 2025-10-02 10:59:24 -0400 (Thu, 02 Oct 2025) EndedAt: 2025-10-02 10:59:52 -0400 (Thu, 02 Oct 2025) EllapsedTime: 27.3 seconds RetCode: 0 Status: OK