Package: orthosData Version: 1.4.0 Maintainer: Panagiotis Papasaikas MaintainerEmail: panagiotis.papasaikas at fmi.ch git_url: https://git.bioconductor.org/packages/orthosData git_branch: RELEASE_3_20 git_last_commit: abd956e git_last_commit_date: 2024-10-29 09:54:47 -0500 (Tue, 29 Oct 2024)