Package: optimalFlowData Version: 1.18.0 Command: /home/biocbuild/bbs-3.20-bioc/R/bin/R CMD INSTALL optimalFlowData StartedAt: 2025-02-13 10:55:39 -0500 (Thu, 13 Feb 2025) EndedAt: 2025-02-13 10:56:07 -0500 (Thu, 13 Feb 2025) EllapsedTime: 28.1 seconds RetCode: 0 Status: OK