Package: optimalFlowData Version: 1.18.0 Command: /home/biocbuild/bbs-3.20-bioc/R/bin/R CMD build --keep-empty-dirs --no-resave-data optimalFlowData StartedAt: 2025-02-13 11:30:20 -0500 (Thu, 13 Feb 2025) EndedAt: 2025-02-13 11:31:09 -0500 (Thu, 13 Feb 2025) EllapsedTime: 49.2 seconds RetCode: 0 Status: OK PackageFile: optimalFlowData_1.18.0.tar.gz PackageFileSize: 75.86 MiB