Package: octad.db Version: 1.8.0 Command: /home/biocbuild/bbs-3.20-bioc/R/bin/R CMD INSTALL octad.db StartedAt: 2025-02-06 10:57:13 -0500 (Thu, 06 Feb 2025) EndedAt: 2025-02-06 10:57:26 -0500 (Thu, 06 Feb 2025) EllapsedTime: 13.5 seconds RetCode: 0 Status: OK