Package: octad.db Version: 1.8.0 Command: /home/biocbuild/bbs-3.20-bioc/R/bin/R CMD check --install=check:octad.db.install-out.txt --library=/home/biocbuild/bbs-3.20-bioc/R/site-library --timings octad.db_1.8.0.tar.gz StartedAt: 2025-02-06 12:26:16 -0500 (Thu, 06 Feb 2025) EndedAt: 2025-02-06 12:28:02 -0500 (Thu, 06 Feb 2025) EllapsedTime: 106.2 seconds RetCode: 0 Status: OK CheckDir: octad.db.Rcheck Warnings: 0