Package: nullrangesData Version: 1.12.0 Command: /home/biocbuild/bbs-3.20-bioc/R/bin/R CMD INSTALL nullrangesData StartedAt: 2025-02-06 10:58:55 -0500 (Thu, 06 Feb 2025) EndedAt: 2025-02-06 10:59:23 -0500 (Thu, 06 Feb 2025) EllapsedTime: 28.4 seconds RetCode: 0 Status: OK