Package: nullrangesData Version: 1.12.0 Command: /home/biocbuild/bbs-3.20-bioc/R/bin/R CMD check --install=check:nullrangesData.install-out.txt --library=/home/biocbuild/bbs-3.20-bioc/R/site-library --timings nullrangesData_1.12.0.tar.gz StartedAt: 2025-02-06 12:25:07 -0500 (Thu, 06 Feb 2025) EndedAt: 2025-02-06 12:28:36 -0500 (Thu, 06 Feb 2025) EllapsedTime: 208.8 seconds RetCode: 0 Status: OK CheckDir: nullrangesData.Rcheck Warnings: 0