Package: nullrangesData Version: 1.14.0 Command: /home/biocbuild/bbs-3.21-bioc/R/bin/R CMD check --install=check:nullrangesData.install-out.txt --library=/home/biocbuild/bbs-3.21-bioc/R/site-library --timings nullrangesData_1.14.0.tar.gz StartedAt: 2025-10-16 12:42:21 -0400 (Thu, 16 Oct 2025) EndedAt: 2025-10-16 12:46:05 -0400 (Thu, 16 Oct 2025) EllapsedTime: 224.2 seconds RetCode: 0 Status: OK CheckDir: nullrangesData.Rcheck Warnings: 0