Package: nmrdata Version: 1.0.0 Command: /home/biocbuild/bbs-3.22-bioc/R/bin/R CMD INSTALL nmrdata StartedAt: 2025-11-18 10:57:26 -0500 (Tue, 18 Nov 2025) EndedAt: 2025-11-18 10:57:28 -0500 (Tue, 18 Nov 2025) EllapsedTime: 2.0 seconds RetCode: 0 Status: OK