Package: nmrdata Version: 1.0.0 Command: /home/biocbuild/bbs-3.22-bioc/R/bin/R CMD build --keep-empty-dirs --no-resave-data nmrdata StartedAt: 2025-11-18 11:56:00 -0500 (Tue, 18 Nov 2025) EndedAt: 2025-11-18 12:10:25 -0500 (Tue, 18 Nov 2025) EllapsedTime: 865.7 seconds RetCode: 0 Status: OK PackageFile: nmrdata_1.0.0.tar.gz PackageFileSize: 362.1 KiB